BEGIN:VCALENDAR
VERSION:2.0
PRODID:-//ZContent.net//ZapCalLib 1.0//EN
CALSCALE:GREGORIAN
METHOD:PUBLISH
BEGIN:VTIMEZONE
TZID:Europe/Bratislava
BEGIN:DAYLIGHT
DTSTART:20220327T030000
TZOFFSETFROM:+0100
TZOFFSETTO:+0200
TZNAME:CEST
END:DAYLIGHT
BEGIN:STANDARD
DTSTART:20221030T020000
TZOFFSETFROM:+0200
TZOFFSETTO:+0100
TZNAME:CET
END:STANDARD
BEGIN:DAYLIGHT
DTSTART:20230326T030000
TZOFFSETFROM:+0100
TZOFFSETTO:+0200
TZNAME:CEST
END:DAYLIGHT
BEGIN:STANDARD
DTSTART:20231029T020000
TZOFFSETFROM:+0200
TZOFFSETTO:+0100
TZNAME:CET
END:STANDARD
BEGIN:DAYLIGHT
DTSTART:20240331T030000
TZOFFSETFROM:+0100
TZOFFSETTO:+0200
TZNAME:CEST
END:DAYLIGHT
BEGIN:STANDARD
DTSTART:20241027T020000
TZOFFSETFROM:+0200
TZOFFSETTO:+0100
TZNAME:CET
END:STANDARD
END:VTIMEZONE
BEGIN:VEVENT
SUMMARY:Škola tanca – Čardáš a frišká z Branova
DTSTART:20230702T100000
DTEND:20230702T104500
METHOD:PUBLISH
UID:e32f647580c8105c01dfac626a86d0a0@festivalvychodna.sk
DTSTAMP:20260420T190235
SEQUENCE:0
STATUS:CONFIRMED
LOCATION:Amfiteáter Východná\, Tancovisko
GEO:49.059326;19.900733
DESCRIPTION:https://festivalvychodna.sk/2023/program/cardas-a-friska-z-bran
 ova/
URL:https://festivalvychodna.sk/2023/program/cardas-a-friska-z-branova/
ORGANIZER:Národné osvetové centrum
END:VEVENT
END:VCALENDAR
