BEGIN:VCALENDAR
VERSION:2.0
PRODID:-//ZContent.net//ZapCalLib 1.0//EN
CALSCALE:GREGORIAN
METHOD:PUBLISH
BEGIN:VTIMEZONE
TZID:Europe/Bratislava
BEGIN:DAYLIGHT
DTSTART:20220327T030000
TZOFFSETFROM:+0100
TZOFFSETTO:+0200
TZNAME:CEST
END:DAYLIGHT
BEGIN:STANDARD
DTSTART:20221030T020000
TZOFFSETFROM:+0200
TZOFFSETTO:+0100
TZNAME:CET
END:STANDARD
BEGIN:DAYLIGHT
DTSTART:20230326T030000
TZOFFSETFROM:+0100
TZOFFSETTO:+0200
TZNAME:CEST
END:DAYLIGHT
BEGIN:STANDARD
DTSTART:20231029T020000
TZOFFSETFROM:+0200
TZOFFSETTO:+0100
TZNAME:CET
END:STANDARD
BEGIN:DAYLIGHT
DTSTART:20240331T030000
TZOFFSETFROM:+0100
TZOFFSETTO:+0200
TZNAME:CEST
END:DAYLIGHT
BEGIN:STANDARD
DTSTART:20241027T020000
TZOFFSETFROM:+0200
TZOFFSETTO:+0100
TZNAME:CET
END:STANDARD
END:VTIMEZONE
BEGIN:VEVENT
SUMMARY:ČĽOVEK
DTSTART:20230630T200000
DTEND:20230630T211500
METHOD:PUBLISH
UID:f37d82db173182b86988b549d278c5c4@festivalvychodna.sk
DTSTAMP:20260420T185955
SEQUENCE:0
STATUS:CONFIRMED
LOCATION:Amfiteáter Východná\, Veľká scéna – amfiteáter
GEO:49.061413;19.900557
DESCRIPTION:Slávnostný program pri príležitosti významného životnéh
 o jubilea Štefana Kocáka\, folkloristu\, tanečníka\, choreografa a kul
 túrno-osvetového pracovníka\n\nhttps://festivalvychodna.sk/2023/program
 /clovek/
URL:https://festivalvychodna.sk/2023/program/clovek/
ORGANIZER:Národné osvetové centrum
END:VEVENT
END:VCALENDAR
