BEGIN:VCALENDAR
VERSION:2.0
PRODID:-//ZContent.net//ZapCalLib 1.0//EN
CALSCALE:GREGORIAN
METHOD:PUBLISH
BEGIN:VTIMEZONE
TZID:Europe/Bratislava
BEGIN:DAYLIGHT
DTSTART:20220327T030000
TZOFFSETFROM:+0100
TZOFFSETTO:+0200
TZNAME:CEST
END:DAYLIGHT
BEGIN:STANDARD
DTSTART:20221030T020000
TZOFFSETFROM:+0200
TZOFFSETTO:+0100
TZNAME:CET
END:STANDARD
BEGIN:DAYLIGHT
DTSTART:20230326T030000
TZOFFSETFROM:+0100
TZOFFSETTO:+0200
TZNAME:CEST
END:DAYLIGHT
BEGIN:STANDARD
DTSTART:20231029T020000
TZOFFSETFROM:+0200
TZOFFSETTO:+0100
TZNAME:CET
END:STANDARD
BEGIN:DAYLIGHT
DTSTART:20240331T030000
TZOFFSETFROM:+0100
TZOFFSETTO:+0200
TZNAME:CEST
END:DAYLIGHT
BEGIN:STANDARD
DTSTART:20241027T020000
TZOFFSETFROM:+0200
TZOFFSETTO:+0100
TZNAME:CET
END:STANDARD
END:VTIMEZONE
BEGIN:VEVENT
SUMMARY:Dišputy o choreografii ľudového tanca
DTSTART:20230701T144500
DTEND:20230701T154500
METHOD:PUBLISH
UID:667c1db206971b17c8f2c333adb1dde1@festivalvychodna.sk
DTSTAMP:20260419T143828
SEQUENCE:0
STATUS:CONFIRMED
LOCATION:Amfiteáter Východná\, Etnodom
GEO:49.060741;19.901167
DESCRIPTION:Moderovaná diskusia\n\nhttps://festivalvychodna.sk/2023/progra
 m/disputy-o-choreografii/
URL:https://festivalvychodna.sk/2023/program/disputy-o-choreografii/
ORGANIZER:Národné osvetové centrum
END:VEVENT
END:VCALENDAR
