BEGIN:VCALENDAR
VERSION:2.0
PRODID:-//ZContent.net//ZapCalLib 1.0//EN
CALSCALE:GREGORIAN
METHOD:PUBLISH
BEGIN:VTIMEZONE
TZID:Europe/Bratislava
BEGIN:DAYLIGHT
DTSTART:20220327T030000
TZOFFSETFROM:+0100
TZOFFSETTO:+0200
TZNAME:CEST
END:DAYLIGHT
BEGIN:STANDARD
DTSTART:20221030T020000
TZOFFSETFROM:+0200
TZOFFSETTO:+0100
TZNAME:CET
END:STANDARD
BEGIN:DAYLIGHT
DTSTART:20230326T030000
TZOFFSETFROM:+0100
TZOFFSETTO:+0200
TZNAME:CEST
END:DAYLIGHT
BEGIN:STANDARD
DTSTART:20231029T020000
TZOFFSETFROM:+0200
TZOFFSETTO:+0100
TZNAME:CET
END:STANDARD
BEGIN:DAYLIGHT
DTSTART:20240331T030000
TZOFFSETFROM:+0100
TZOFFSETTO:+0200
TZNAME:CEST
END:DAYLIGHT
BEGIN:STANDARD
DTSTART:20241027T020000
TZOFFSETFROM:+0200
TZOFFSETTO:+0100
TZNAME:CET
END:STANDARD
END:VTIMEZONE
BEGIN:VEVENT
SUMMARY:Filmové projekcie z MFF Etnofilm Čadca 2022 – PRVÁ ČASŤ
DTSTART:20230701T160000
DTEND:20230701T173000
METHOD:PUBLISH
UID:03aa788480e5b0ae39a1b02cd9676f61@festivalvychodna.sk
DTSTAMP:20260419T143609
SEQUENCE:0
STATUS:CONFIRMED
LOCATION:Amfiteáter Východná\, Etnodom
GEO:49.060741;19.901167
DESCRIPTION:https://festivalvychodna.sk/2023/program/etnofilm-1/
URL:https://festivalvychodna.sk/2023/program/etnofilm-1/
ORGANIZER:Národné osvetové centrum
END:VEVENT
END:VCALENDAR
