BEGIN:VCALENDAR
VERSION:2.0
PRODID:-//ZContent.net//ZapCalLib 1.0//EN
CALSCALE:GREGORIAN
METHOD:PUBLISH
BEGIN:VTIMEZONE
TZID:Europe/Bratislava
BEGIN:DAYLIGHT
DTSTART:20220327T030000
TZOFFSETFROM:+0100
TZOFFSETTO:+0200
TZNAME:CEST
END:DAYLIGHT
BEGIN:STANDARD
DTSTART:20221030T020000
TZOFFSETFROM:+0200
TZOFFSETTO:+0100
TZNAME:CET
END:STANDARD
BEGIN:DAYLIGHT
DTSTART:20230326T030000
TZOFFSETFROM:+0100
TZOFFSETTO:+0200
TZNAME:CEST
END:DAYLIGHT
BEGIN:STANDARD
DTSTART:20231029T020000
TZOFFSETFROM:+0200
TZOFFSETTO:+0100
TZNAME:CET
END:STANDARD
BEGIN:DAYLIGHT
DTSTART:20240331T030000
TZOFFSETFROM:+0100
TZOFFSETTO:+0200
TZNAME:CEST
END:DAYLIGHT
BEGIN:STANDARD
DTSTART:20241027T020000
TZOFFSETFROM:+0200
TZOFFSETTO:+0100
TZNAME:CET
END:STANDARD
END:VTIMEZONE
BEGIN:VEVENT
SUMMARY:Folklórny festival Východná s Rádiom Regina
DTSTART:20230701T110000
DTEND:20230701T120000
METHOD:PUBLISH
UID:451d354af658be16702637a71b77b473@festivalvychodna.sk
DTSTAMP:20260420T190041
SEQUENCE:0
STATUS:CONFIRMED
LOCATION:Amfiteáter Východná\, Humno
GEO:49.060279;19.900746
DESCRIPTION:Rozhlasový program\n\nhttps://festivalvychodna.sk/2023/program
 /ffv-s-radiom-regina/
URL:https://festivalvychodna.sk/2023/program/ffv-s-radiom-regina/
ORGANIZER:Národné osvetové centrum
END:VEVENT
END:VCALENDAR
