BEGIN:VCALENDAR
VERSION:2.0
PRODID:-//ZContent.net//ZapCalLib 1.0//EN
CALSCALE:GREGORIAN
METHOD:PUBLISH
BEGIN:VTIMEZONE
TZID:Europe/Bratislava
BEGIN:DAYLIGHT
DTSTART:20220327T030000
TZOFFSETFROM:+0100
TZOFFSETTO:+0200
TZNAME:CEST
END:DAYLIGHT
BEGIN:STANDARD
DTSTART:20221030T020000
TZOFFSETFROM:+0200
TZOFFSETTO:+0100
TZNAME:CET
END:STANDARD
BEGIN:DAYLIGHT
DTSTART:20230326T030000
TZOFFSETFROM:+0100
TZOFFSETTO:+0200
TZNAME:CEST
END:DAYLIGHT
BEGIN:STANDARD
DTSTART:20231029T020000
TZOFFSETFROM:+0200
TZOFFSETTO:+0100
TZNAME:CET
END:STANDARD
BEGIN:DAYLIGHT
DTSTART:20240331T030000
TZOFFSETFROM:+0100
TZOFFSETTO:+0200
TZNAME:CEST
END:DAYLIGHT
BEGIN:STANDARD
DTSTART:20241027T020000
TZOFFSETFROM:+0200
TZOFFSETTO:+0100
TZNAME:CET
END:STANDARD
END:VTIMEZONE
BEGIN:VEVENT
SUMMARY:Hrdza
DTSTART:20230702T000000
DTEND:20230702T010000
METHOD:PUBLISH
UID:09a921d7ea10762f8e6b75bab8460865@festivalvychodna.sk
DTSTAMP:20260419T161751
SEQUENCE:0
STATUS:CONFIRMED
LOCATION:Amfiteáter Východná\, Humno
GEO:49.060279;19.900746
DESCRIPTION:Hudobný koncert\n\nhttps://festivalvychodna.sk/2023/program/hr
 dza/
URL:https://festivalvychodna.sk/2023/program/hrdza/
ORGANIZER:Národné osvetové centrum
END:VEVENT
END:VCALENDAR
