BEGIN:VCALENDAR
VERSION:2.0
PRODID:-//ZContent.net//ZapCalLib 1.0//EN
CALSCALE:GREGORIAN
METHOD:PUBLISH
BEGIN:VTIMEZONE
TZID:Europe/Bratislava
BEGIN:DAYLIGHT
DTSTART:20220327T030000
TZOFFSETFROM:+0100
TZOFFSETTO:+0200
TZNAME:CEST
END:DAYLIGHT
BEGIN:STANDARD
DTSTART:20221030T020000
TZOFFSETFROM:+0200
TZOFFSETTO:+0100
TZNAME:CET
END:STANDARD
BEGIN:DAYLIGHT
DTSTART:20230326T030000
TZOFFSETFROM:+0100
TZOFFSETTO:+0200
TZNAME:CEST
END:DAYLIGHT
BEGIN:STANDARD
DTSTART:20231029T020000
TZOFFSETFROM:+0200
TZOFFSETTO:+0100
TZNAME:CET
END:STANDARD
BEGIN:DAYLIGHT
DTSTART:20240331T030000
TZOFFSETFROM:+0100
TZOFFSETTO:+0200
TZNAME:CEST
END:DAYLIGHT
BEGIN:STANDARD
DTSTART:20241027T020000
TZOFFSETFROM:+0200
TZOFFSETTO:+0100
TZNAME:CET
END:STANDARD
END:VTIMEZONE
BEGIN:VEVENT
SUMMARY:Ján Ambróz
DTSTART:20230701T191000
DTEND:20230701T194000
METHOD:PUBLISH
UID:ecd02a12758276891d31eabeb1d1f863@festivalvychodna.sk
DTSTAMP:20260419T143533
SEQUENCE:0
STATUS:CONFIRMED
LOCATION:Amfiteáter Východná\, Veľká scéna – amfiteáter
GEO:49.061413;19.900557
DESCRIPTION:https://festivalvychodna.sk/2023/program/jan-ambroz/
URL:https://festivalvychodna.sk/2023/program/jan-ambroz/
ORGANIZER:Národné osvetové centrum
END:VEVENT
END:VCALENDAR
