BEGIN:VCALENDAR
VERSION:2.0
PRODID:-//ZContent.net//ZapCalLib 1.0//EN
CALSCALE:GREGORIAN
METHOD:PUBLISH
BEGIN:VTIMEZONE
TZID:Europe/Bratislava
BEGIN:DAYLIGHT
DTSTART:20220327T030000
TZOFFSETFROM:+0100
TZOFFSETTO:+0200
TZNAME:CEST
END:DAYLIGHT
BEGIN:STANDARD
DTSTART:20221030T020000
TZOFFSETFROM:+0200
TZOFFSETTO:+0100
TZNAME:CET
END:STANDARD
BEGIN:DAYLIGHT
DTSTART:20230326T030000
TZOFFSETFROM:+0100
TZOFFSETTO:+0200
TZNAME:CEST
END:DAYLIGHT
BEGIN:STANDARD
DTSTART:20231029T020000
TZOFFSETFROM:+0200
TZOFFSETTO:+0100
TZNAME:CET
END:STANDARD
BEGIN:DAYLIGHT
DTSTART:20240331T030000
TZOFFSETFROM:+0100
TZOFFSETTO:+0200
TZNAME:CEST
END:DAYLIGHT
BEGIN:STANDARD
DTSTART:20241027T020000
TZOFFSETFROM:+0200
TZOFFSETTO:+0100
TZNAME:CET
END:STANDARD
END:VTIMEZONE
BEGIN:VEVENT
SUMMARY:JEDNA KRAJINA
DTSTART:20230701T201000
DTEND:20230701T214000
METHOD:PUBLISH
UID:28a20170bea06e26c9886d305352d5a3@festivalvychodna.sk
DTSTAMP:20260419T143750
SEQUENCE:0
STATUS:CONFIRMED
LOCATION:AmfiteÃ¡ter VÃ½chodnÃ¡\, VeÄ¾kÃ¡ scÃ©na â€“ amfiteÃ¡ter
GEO:49.061413;19.900557
DESCRIPTION:Mozaika slovenskÃ½ch regiÃ³nov\, etnÃ­k\, ale aj tvorivÃ½ch prÃ
 ­stupov k folklÃ³rnemu materiÃ¡luProgram JEDNA KRAJINA uvidÃ­te naÅ¾ivo aj
  na obrazovkÃ¡ch RTVS &ndash\; v sobotu 1.&nbsp\;7. 2023 od 20:10 hod. na 
 Dvojke.\n\nhttps://festivalvychodna.sk/2023/program/jedna-krajina/
URL:https://festivalvychodna.sk/2023/program/jedna-krajina/
ORGANIZER:NÃ¡rodnÃ© osvetovÃ© centrum
END:VEVENT
END:VCALENDAR
