BEGIN:VCALENDAR
VERSION:2.0
PRODID:-//ZContent.net//ZapCalLib 1.0//EN
CALSCALE:GREGORIAN
METHOD:PUBLISH
BEGIN:VTIMEZONE
TZID:Europe/Bratislava
BEGIN:DAYLIGHT
DTSTART:20220327T030000
TZOFFSETFROM:+0100
TZOFFSETTO:+0200
TZNAME:CEST
END:DAYLIGHT
BEGIN:STANDARD
DTSTART:20221030T020000
TZOFFSETFROM:+0200
TZOFFSETTO:+0100
TZNAME:CET
END:STANDARD
BEGIN:DAYLIGHT
DTSTART:20230326T030000
TZOFFSETFROM:+0100
TZOFFSETTO:+0200
TZNAME:CEST
END:DAYLIGHT
BEGIN:STANDARD
DTSTART:20231029T020000
TZOFFSETFROM:+0200
TZOFFSETTO:+0100
TZNAME:CET
END:STANDARD
BEGIN:DAYLIGHT
DTSTART:20240331T030000
TZOFFSETFROM:+0100
TZOFFSETTO:+0200
TZNAME:CEST
END:DAYLIGHT
BEGIN:STANDARD
DTSTART:20241027T020000
TZOFFSETFROM:+0200
TZOFFSETTO:+0100
TZNAME:CET
END:STANDARD
END:VTIMEZONE
BEGIN:VEVENT
SUMMARY:ONDRO a KAMARÁTI – Pod obločkom
DTSTART:20230630T230000
DTEND:20230701T000000
METHOD:PUBLISH
UID:1631abac26271610d1b03579838c7587@festivalvychodna.sk
DTSTAMP:20260419T161704
SEQUENCE:0
STATUS:CONFIRMED
LOCATION:Amfiteáter Východná\, Humno
GEO:49.060279;19.900746
DESCRIPTION:Nový pohľad na experimentálne spracovanie slovenskej ľudove
 j hudby z Horehronia\, Pohronia a Vojvodiny.\n\nhttps://festivalvychodna.s
 k/2023/program/ondro-a-kamarati-pod-oblockom/
URL:https://festivalvychodna.sk/2023/program/ondro-a-kamarati-pod-oblockom/
ORGANIZER:Národné osvetové centrum
END:VEVENT
END:VCALENDAR
