BEGIN:VCALENDAR
VERSION:2.0
PRODID:-//ZContent.net//ZapCalLib 1.0//EN
CALSCALE:GREGORIAN
METHOD:PUBLISH
BEGIN:VTIMEZONE
TZID:Europe/Bratislava
BEGIN:DAYLIGHT
DTSTART:20220327T030000
TZOFFSETFROM:+0100
TZOFFSETTO:+0200
TZNAME:CEST
END:DAYLIGHT
BEGIN:STANDARD
DTSTART:20221030T020000
TZOFFSETFROM:+0200
TZOFFSETTO:+0100
TZNAME:CET
END:STANDARD
BEGIN:DAYLIGHT
DTSTART:20230326T030000
TZOFFSETFROM:+0100
TZOFFSETTO:+0200
TZNAME:CEST
END:DAYLIGHT
BEGIN:STANDARD
DTSTART:20231029T020000
TZOFFSETFROM:+0200
TZOFFSETTO:+0100
TZNAME:CET
END:STANDARD
BEGIN:DAYLIGHT
DTSTART:20240331T030000
TZOFFSETFROM:+0100
TZOFFSETTO:+0200
TZNAME:CEST
END:DAYLIGHT
BEGIN:STANDARD
DTSTART:20241027T020000
TZOFFSETFROM:+0200
TZOFFSETTO:+0100
TZNAME:CET
END:STANDARD
END:VTIMEZONE
BEGIN:VEVENT
SUMMARY:Pri muzike
DTSTART:20230701T230000
DTEND:20230702T030000
METHOD:PUBLISH
UID:fcd28830fa5a77988e47b9b0eb48a40b@festivalvychodna.sk
DTSTAMP:20260419T143424
SEQUENCE:0
STATUS:CONFIRMED
LOCATION:Amfiteáter Východná\, Tancovisko
GEO:49.059326;19.900733
DESCRIPTION:Tanečná zábava\n\nhttps://festivalvychodna.sk/2023/program/p
 ri-muzike-2/
URL:https://festivalvychodna.sk/2023/program/pri-muzike-2/
ORGANIZER:Národné osvetové centrum
END:VEVENT
END:VCALENDAR
