BEGIN:VCALENDAR
VERSION:2.0
PRODID:-//ZContent.net//ZapCalLib 1.0//EN
CALSCALE:GREGORIAN
METHOD:PUBLISH
BEGIN:VTIMEZONE
TZID:Europe/Bratislava
BEGIN:DAYLIGHT
DTSTART:20220327T030000
TZOFFSETFROM:+0100
TZOFFSETTO:+0200
TZNAME:CEST
END:DAYLIGHT
BEGIN:STANDARD
DTSTART:20221030T020000
TZOFFSETFROM:+0200
TZOFFSETTO:+0100
TZNAME:CET
END:STANDARD
BEGIN:DAYLIGHT
DTSTART:20230326T030000
TZOFFSETFROM:+0100
TZOFFSETTO:+0200
TZNAME:CEST
END:DAYLIGHT
BEGIN:STANDARD
DTSTART:20231029T020000
TZOFFSETFROM:+0200
TZOFFSETTO:+0100
TZNAME:CET
END:STANDARD
BEGIN:DAYLIGHT
DTSTART:20240331T030000
TZOFFSETFROM:+0100
TZOFFSETTO:+0200
TZNAME:CEST
END:DAYLIGHT
BEGIN:STANDARD
DTSTART:20241027T020000
TZOFFSETFROM:+0200
TZOFFSETTO:+0100
TZNAME:CET
END:STANDARD
END:VTIMEZONE
BEGIN:VEVENT
SUMMARY:Å kola spevu z Ponitria
DTSTART:20230630T170000
DTEND:20230630T174500
METHOD:PUBLISH
UID:2d98c374a891b381a90101929e2b4c28@festivalvychodna.sk
DTSTAMP:20260420T190337
SEQUENCE:0
STATUS:CONFIRMED
LOCATION:AmfiteÃ¡ter VÃ½chodnÃ¡\, Humno
GEO:49.060279;19.900746
DESCRIPTION:Zo zÃ¡pisov a fonografickÃ½ch zÃ¡znamov B. BartÃ³ka z obce DraÅ
 ¾ovce\n\nhttps://festivalvychodna.sk/2023/program/skola-spevu-z-ponitria/
URL:https://festivalvychodna.sk/2023/program/skola-spevu-z-ponitria/
ORGANIZER:NÃ¡rodnÃ© osvetovÃ© centrum
END:VEVENT
END:VCALENDAR
