BEGIN:VCALENDAR
VERSION:2.0
PRODID:-//ZContent.net//ZapCalLib 1.0//EN
CALSCALE:GREGORIAN
METHOD:PUBLISH
BEGIN:VTIMEZONE
TZID:Europe/Bratislava
BEGIN:DAYLIGHT
DTSTART:20220327T030000
TZOFFSETFROM:+0100
TZOFFSETTO:+0200
TZNAME:CEST
END:DAYLIGHT
BEGIN:STANDARD
DTSTART:20221030T020000
TZOFFSETFROM:+0200
TZOFFSETTO:+0100
TZNAME:CET
END:STANDARD
BEGIN:DAYLIGHT
DTSTART:20230326T030000
TZOFFSETFROM:+0100
TZOFFSETTO:+0200
TZNAME:CEST
END:DAYLIGHT
BEGIN:STANDARD
DTSTART:20231029T020000
TZOFFSETFROM:+0200
TZOFFSETTO:+0100
TZNAME:CET
END:STANDARD
BEGIN:DAYLIGHT
DTSTART:20240331T030000
TZOFFSETFROM:+0100
TZOFFSETTO:+0200
TZNAME:CEST
END:DAYLIGHT
BEGIN:STANDARD
DTSTART:20241027T020000
TZOFFSETFROM:+0200
TZOFFSETTO:+0100
TZNAME:CET
END:STANDARD
END:VTIMEZONE
BEGIN:VEVENT
SUMMARY:SPOLU SME SA NARODILI\, SPOLU TO AJ OSLÁVIME
DTSTART:20230630T170000
DTEND:20230630T180000
METHOD:PUBLISH
UID:efb3a1ad151941f7530685850973296f@festivalvychodna.sk
DTSTAMP:20260420T190051
SEQUENCE:0
STATUS:CONFIRMED
LOCATION:Amfiteáter Východná\, Malá scéna
GEO:49.060729;19.900155
DESCRIPTION:Pozdrav jubilujúceho FS Vršatec (70.) rovesníkovi FF Východ
 ná\n\nhttps://festivalvychodna.sk/2023/program/spolu-sme-sa-narodili/
URL:https://festivalvychodna.sk/2023/program/spolu-sme-sa-narodili/
ORGANIZER:Národné osvetové centrum
END:VEVENT
END:VCALENDAR
