BEGIN:VCALENDAR
VERSION:2.0
PRODID:-//ZContent.net//ZapCalLib 1.0//EN
CALSCALE:GREGORIAN
METHOD:PUBLISH
BEGIN:VTIMEZONE
TZID:Europe/Bratislava
BEGIN:DAYLIGHT
DTSTART:20220327T030000
TZOFFSETFROM:+0100
TZOFFSETTO:+0200
TZNAME:CEST
END:DAYLIGHT
BEGIN:STANDARD
DTSTART:20221030T020000
TZOFFSETFROM:+0200
TZOFFSETTO:+0100
TZNAME:CET
END:STANDARD
BEGIN:DAYLIGHT
DTSTART:20230326T030000
TZOFFSETFROM:+0100
TZOFFSETTO:+0200
TZNAME:CEST
END:DAYLIGHT
BEGIN:STANDARD
DTSTART:20231029T020000
TZOFFSETFROM:+0200
TZOFFSETTO:+0100
TZNAME:CET
END:STANDARD
BEGIN:DAYLIGHT
DTSTART:20240331T030000
TZOFFSETFROM:+0100
TZOFFSETTO:+0200
TZNAME:CEST
END:DAYLIGHT
BEGIN:STANDARD
DTSTART:20241027T020000
TZOFFSETFROM:+0200
TZOFFSETTO:+0100
TZNAME:CET
END:STANDARD
END:VTIMEZONE
BEGIN:VEVENT
SUMMARY:STANICA SVET MARTINA SABAKU
DTSTART:20230630T170000
DTEND:20230630T180000
METHOD:PUBLISH
UID:16ce855d6b1b612f8e48464d8cecc7da@festivalvychodna.sk
DTSTAMP:20260420T190704
SEQUENCE:0
STATUS:CONFIRMED
LOCATION:Obec Východná\, Farma Východná
GEO:49.066508;19.895055
DESCRIPTION:Slávnostné otvorenie expozície spontánneho umenia\n\nhttps:
 //festivalvychodna.sk/2023/program/stanica-svet-martina-sabaku/
URL:https://festivalvychodna.sk/2023/program/stanica-svet-martina-sabaku/
ORGANIZER:Národné osvetové centrum
END:VEVENT
END:VCALENDAR
