BEGIN:VCALENDAR
VERSION:2.0
PRODID:-//ZContent.net//ZapCalLib 1.0//EN
CALSCALE:GREGORIAN
METHOD:PUBLISH
BEGIN:VTIMEZONE
TZID:Europe/Bratislava
BEGIN:DAYLIGHT
DTSTART:20220327T030000
TZOFFSETFROM:+0100
TZOFFSETTO:+0200
TZNAME:CEST
END:DAYLIGHT
BEGIN:STANDARD
DTSTART:20221030T020000
TZOFFSETFROM:+0200
TZOFFSETTO:+0100
TZNAME:CET
END:STANDARD
BEGIN:DAYLIGHT
DTSTART:20230326T030000
TZOFFSETFROM:+0100
TZOFFSETTO:+0200
TZNAME:CEST
END:DAYLIGHT
BEGIN:STANDARD
DTSTART:20231029T020000
TZOFFSETFROM:+0200
TZOFFSETTO:+0100
TZNAME:CET
END:STANDARD
BEGIN:DAYLIGHT
DTSTART:20240331T030000
TZOFFSETFROM:+0100
TZOFFSETTO:+0200
TZNAME:CEST
END:DAYLIGHT
BEGIN:STANDARD
DTSTART:20241027T020000
TZOFFSETFROM:+0200
TZOFFSETTO:+0100
TZNAME:CET
END:STANDARD
END:VTIMEZONE
BEGIN:VEVENT
SUMMARY:Z pokolenia na pokolenie
DTSTART:20230702T123000
DTEND:20230702T140000
METHOD:PUBLISH
UID:a41c39aba660ad4a77a1960da0e2a9d3@festivalvychodna.sk
DTSTAMP:20260420T190637
SEQUENCE:0
STATUS:CONFIRMED
LOCATION:Amfiteáter Východná\, Malá scéna
GEO:49.060729;19.900155
DESCRIPTION:Program detských folklórnych súborov\n\nhttps://festivalvych
 odna.sk/2023/program/z-pokolenia-na-pokolenie/
URL:https://festivalvychodna.sk/2023/program/z-pokolenia-na-pokolenie/
ORGANIZER:Národné osvetové centrum
END:VEVENT
END:VCALENDAR
