BEGIN:VCALENDAR
VERSION:2.0
PRODID:-//ZContent.net//ZapCalLib 1.0//EN
CALSCALE:GREGORIAN
METHOD:PUBLISH
BEGIN:VTIMEZONE
TZID:Europe/Bratislava
BEGIN:DAYLIGHT
DTSTART:20220327T030000
TZOFFSETFROM:+0100
TZOFFSETTO:+0200
TZNAME:CEST
END:DAYLIGHT
BEGIN:STANDARD
DTSTART:20221030T020000
TZOFFSETFROM:+0200
TZOFFSETTO:+0100
TZNAME:CET
END:STANDARD
BEGIN:DAYLIGHT
DTSTART:20230326T030000
TZOFFSETFROM:+0100
TZOFFSETTO:+0200
TZNAME:CEST
END:DAYLIGHT
BEGIN:STANDARD
DTSTART:20231029T020000
TZOFFSETFROM:+0200
TZOFFSETTO:+0100
TZNAME:CET
END:STANDARD
BEGIN:DAYLIGHT
DTSTART:20240331T030000
TZOFFSETFROM:+0100
TZOFFSETTO:+0200
TZNAME:CEST
END:DAYLIGHT
BEGIN:STANDARD
DTSTART:20241027T020000
TZOFFSETFROM:+0200
TZOFFSETTO:+0100
TZNAME:CET
END:STANDARD
END:VTIMEZONE
BEGIN:VEVENT
SUMMARY:Z TROCH CHOTÁROV
DTSTART:20230630T183000
DTEND:20230630T194500
METHOD:PUBLISH
UID:ec2aaeece47167790ac39016b65497fe@festivalvychodna.sk
DTSTAMP:20260419T161704
SEQUENCE:0
STATUS:CONFIRMED
LOCATION:Amfiteáter Východná\, Veľká scéna – amfiteáter
GEO:49.061413;19.900557
DESCRIPTION:https://festivalvychodna.sk/2023/program/z-troch-chotarov/
URL:https://festivalvychodna.sk/2023/program/z-troch-chotarov/
ORGANIZER:Národné osvetové centrum
END:VEVENT
END:VCALENDAR
