BEGIN:VCALENDAR
VERSION:2.0
PRODID:-//ZContent.net//ZapCalLib 1.0//EN
CALSCALE:GREGORIAN
METHOD:PUBLISH
BEGIN:VTIMEZONE
TZID:Europe/Bratislava
BEGIN:DAYLIGHT
DTSTART:20230326T030000
TZOFFSETFROM:+0100
TZOFFSETTO:+0200
TZNAME:CEST
END:DAYLIGHT
BEGIN:STANDARD
DTSTART:20231029T020000
TZOFFSETFROM:+0200
TZOFFSETTO:+0100
TZNAME:CET
END:STANDARD
BEGIN:DAYLIGHT
DTSTART:20240331T030000
TZOFFSETFROM:+0100
TZOFFSETTO:+0200
TZNAME:CEST
END:DAYLIGHT
BEGIN:STANDARD
DTSTART:20241027T020000
TZOFFSETFROM:+0200
TZOFFSETTO:+0100
TZNAME:CET
END:STANDARD
BEGIN:DAYLIGHT
DTSTART:20250330T030000
TZOFFSETFROM:+0100
TZOFFSETTO:+0200
TZNAME:CEST
END:DAYLIGHT
BEGIN:STANDARD
DTSTART:20251026T020000
TZOFFSETFROM:+0200
TZOFFSETTO:+0100
TZNAME:CET
END:STANDARD
END:VTIMEZONE
BEGIN:VEVENT
SUMMARY:Filmy s folklórnou tematikou
DTSTART:20240707T100000
DTEND:20240707T130000
METHOD:PUBLISH
UID:aa7f99b83d430ad78f28f26dd379c3e0@festivalvychodna.sk
DTSTAMP:20260419T125559
SEQUENCE:0
STATUS:CONFIRMED
LOCATION:Amfiteáter Východná\, Etnodom
GEO:49.060741;19.901167
DESCRIPTION:https://festivalvychodna.sk/2024/program/filmy-s-folklornou-tem
 atikou/
URL:https://festivalvychodna.sk/2024/program/filmy-s-folklornou-tematikou/
ORGANIZER:Národné osvetové centrum
END:VEVENT
END:VCALENDAR
