BEGIN:VCALENDAR
VERSION:2.0
PRODID:-//ZContent.net//ZapCalLib 1.0//EN
CALSCALE:GREGORIAN
METHOD:PUBLISH
BEGIN:VTIMEZONE
TZID:Europe/Bratislava
BEGIN:DAYLIGHT
DTSTART:20230326T030000
TZOFFSETFROM:+0100
TZOFFSETTO:+0200
TZNAME:CEST
END:DAYLIGHT
BEGIN:STANDARD
DTSTART:20231029T020000
TZOFFSETFROM:+0200
TZOFFSETTO:+0100
TZNAME:CET
END:STANDARD
BEGIN:DAYLIGHT
DTSTART:20240331T030000
TZOFFSETFROM:+0100
TZOFFSETTO:+0200
TZNAME:CEST
END:DAYLIGHT
BEGIN:STANDARD
DTSTART:20241027T020000
TZOFFSETFROM:+0200
TZOFFSETTO:+0100
TZNAME:CET
END:STANDARD
BEGIN:DAYLIGHT
DTSTART:20250330T030000
TZOFFSETFROM:+0100
TZOFFSETTO:+0200
TZNAME:CEST
END:DAYLIGHT
BEGIN:STANDARD
DTSTART:20251026T020000
TZOFFSETFROM:+0200
TZOFFSETTO:+0100
TZNAME:CET
END:STANDARD
END:VTIMEZONE
BEGIN:VEVENT
SUMMARY:Folk & Bass Orchestra a Ženy z Muzičky
DTSTART:20240705T230000
DTEND:20240706T000000
METHOD:PUBLISH
UID:c7e1f3eb7ed8fa8cc5357e09f9dc037b@festivalvychodna.sk
DTSTAMP:20260419T125619
SEQUENCE:0
STATUS:CONFIRMED
LOCATION:Amfiteáter Východná\, Humno
GEO:49.060279;19.900746
DESCRIPTION:Hudobný koncert.\n\nhttps://festivalvychodna.sk/2024/program/f
 olk-bass-orchestra-a-zeny-z-muzicky/
URL:https://festivalvychodna.sk/2024/program/folk-bass-orchestra-a-zeny-z-m
 uzicky/
ORGANIZER:Národné osvetové centrum
END:VEVENT
END:VCALENDAR
