BEGIN:VCALENDAR
VERSION:2.0
PRODID:-//ZContent.net//ZapCalLib 1.0//EN
CALSCALE:GREGORIAN
METHOD:PUBLISH
BEGIN:VTIMEZONE
TZID:Europe/Bratislava
BEGIN:DAYLIGHT
DTSTART:20230326T030000
TZOFFSETFROM:+0100
TZOFFSETTO:+0200
TZNAME:CEST
END:DAYLIGHT
BEGIN:STANDARD
DTSTART:20231029T020000
TZOFFSETFROM:+0200
TZOFFSETTO:+0100
TZNAME:CET
END:STANDARD
BEGIN:DAYLIGHT
DTSTART:20240331T030000
TZOFFSETFROM:+0100
TZOFFSETTO:+0200
TZNAME:CEST
END:DAYLIGHT
BEGIN:STANDARD
DTSTART:20241027T020000
TZOFFSETFROM:+0200
TZOFFSETTO:+0100
TZNAME:CET
END:STANDARD
BEGIN:DAYLIGHT
DTSTART:20250330T030000
TZOFFSETFROM:+0100
TZOFFSETTO:+0200
TZNAME:CEST
END:DAYLIGHT
BEGIN:STANDARD
DTSTART:20251026T020000
TZOFFSETFROM:+0200
TZOFFSETTO:+0100
TZNAME:CET
END:STANDARD
END:VTIMEZONE
BEGIN:VEVENT
SUMMARY:KORENE – Iconito & Zemplín
DTSTART:20240704T200000
DTEND:20240704T223000
METHOD:PUBLISH
UID:d29246f82c9ad413c16262c3c0531415@festivalvychodna.sk
DTSTAMP:20260419T124753
SEQUENCE:0
STATUS:CONFIRMED
LOCATION:Amfiteáter Východná\, Veľká scéna – amfiteáter
GEO:49.061413;19.900557
DESCRIPTION:Veľkolepá multižánrová show o&nbsp\;slovenskom folklóre v
 &nbsp\;moderných podobách.\n\nhttps://festivalvychodna.sk/2024/program/k
 orene/
URL:https://festivalvychodna.sk/2024/program/korene/
ORGANIZER:Národné osvetové centrum
END:VEVENT
END:VCALENDAR
