BEGIN:VCALENDAR
VERSION:2.0
PRODID:-//ZContent.net//ZapCalLib 1.0//EN
CALSCALE:GREGORIAN
METHOD:PUBLISH
BEGIN:VTIMEZONE
TZID:Europe/Bratislava
BEGIN:DAYLIGHT
DTSTART:20230326T030000
TZOFFSETFROM:+0100
TZOFFSETTO:+0200
TZNAME:CEST
END:DAYLIGHT
BEGIN:STANDARD
DTSTART:20231029T020000
TZOFFSETFROM:+0200
TZOFFSETTO:+0100
TZNAME:CET
END:STANDARD
BEGIN:DAYLIGHT
DTSTART:20240331T030000
TZOFFSETFROM:+0100
TZOFFSETTO:+0200
TZNAME:CEST
END:DAYLIGHT
BEGIN:STANDARD
DTSTART:20241027T020000
TZOFFSETFROM:+0200
TZOFFSETTO:+0100
TZNAME:CET
END:STANDARD
BEGIN:DAYLIGHT
DTSTART:20250330T030000
TZOFFSETFROM:+0100
TZOFFSETTO:+0200
TZNAME:CEST
END:DAYLIGHT
BEGIN:STANDARD
DTSTART:20251026T020000
TZOFFSETFROM:+0200
TZOFFSETTO:+0100
TZNAME:CET
END:STANDARD
END:VTIMEZONE
BEGIN:VEVENT
SUMMARY:LÁSKAvô
DTSTART:20240706T200000
DTEND:20240706T211500
METHOD:PUBLISH
UID:22d60d4be4d18dd825e261908b167271@festivalvychodna.sk
DTSTAMP:20260419T124800
SEQUENCE:0
STATUS:CONFIRMED
LOCATION:Amfiteáter Východná\, Veľká scéna – amfiteáter
GEO:49.061413;19.900557
DESCRIPTION:Program folklórnych súborov.Program &bdquo\;LÁSKAvô&rdquo\;
  ste mali možnosť vidieť v sobotu 6. 7. 2024 naživo aj na obrazovkách
  Slovenskej televízie a rozhlasu. Záznam si môžete pozrieť v archíve
  vysielania Dvojky.\n\nhttps://festivalvychodna.sk/2024/program/laskavo/
URL:https://festivalvychodna.sk/2024/program/laskavo/
ORGANIZER:Národné osvetové centrum
END:VEVENT
END:VCALENDAR
