BEGIN:VCALENDAR
VERSION:2.0
PRODID:-//ZContent.net//ZapCalLib 1.0//EN
CALSCALE:GREGORIAN
METHOD:PUBLISH
BEGIN:VTIMEZONE
TZID:Europe/Bratislava
BEGIN:DAYLIGHT
DTSTART:20230326T030000
TZOFFSETFROM:+0100
TZOFFSETTO:+0200
TZNAME:CEST
END:DAYLIGHT
BEGIN:STANDARD
DTSTART:20231029T020000
TZOFFSETFROM:+0200
TZOFFSETTO:+0100
TZNAME:CET
END:STANDARD
BEGIN:DAYLIGHT
DTSTART:20240331T030000
TZOFFSETFROM:+0100
TZOFFSETTO:+0200
TZNAME:CEST
END:DAYLIGHT
BEGIN:STANDARD
DTSTART:20241027T020000
TZOFFSETFROM:+0200
TZOFFSETTO:+0100
TZNAME:CET
END:STANDARD
BEGIN:DAYLIGHT
DTSTART:20250330T030000
TZOFFSETFROM:+0100
TZOFFSETTO:+0200
TZNAME:CEST
END:DAYLIGHT
BEGIN:STANDARD
DTSTART:20251026T020000
TZOFFSETFROM:+0200
TZOFFSETTO:+0100
TZNAME:CET
END:STANDARD
END:VTIMEZONE
BEGIN:VEVENT
SUMMARY:Na známosť sa všetkým dáva
DTSTART:20240706T130000
DTEND:20240706T140000
METHOD:PUBLISH
UID:571b41b70c0ee9a85d47cbfdfeab70ea@festivalvychodna.sk
DTSTAMP:20260419T125545
SEQUENCE:0
STATUS:CONFIRMED
LOCATION:Amfiteáter Východná\, Malá scéna
GEO:49.060729;19.900155
DESCRIPTION:Prezentácia účinkujúcich 69.&nbsp\;ročníka FFV\n\nhttps:/
 /festivalvychodna.sk/2024/program/na-znamost-sa-vsetkym-dava/
URL:https://festivalvychodna.sk/2024/program/na-znamost-sa-vsetkym-dava/
ORGANIZER:Národné osvetové centrum
END:VEVENT
END:VCALENDAR
