BEGIN:VCALENDAR
VERSION:2.0
PRODID:-//ZContent.net//ZapCalLib 1.0//EN
CALSCALE:GREGORIAN
METHOD:PUBLISH
BEGIN:VTIMEZONE
TZID:Europe/Bratislava
BEGIN:DAYLIGHT
DTSTART:20230326T030000
TZOFFSETFROM:+0100
TZOFFSETTO:+0200
TZNAME:CEST
END:DAYLIGHT
BEGIN:STANDARD
DTSTART:20231029T020000
TZOFFSETFROM:+0200
TZOFFSETTO:+0100
TZNAME:CET
END:STANDARD
BEGIN:DAYLIGHT
DTSTART:20240331T030000
TZOFFSETFROM:+0100
TZOFFSETTO:+0200
TZNAME:CEST
END:DAYLIGHT
BEGIN:STANDARD
DTSTART:20241027T020000
TZOFFSETFROM:+0200
TZOFFSETTO:+0100
TZNAME:CET
END:STANDARD
BEGIN:DAYLIGHT
DTSTART:20250330T030000
TZOFFSETFROM:+0100
TZOFFSETTO:+0200
TZNAME:CEST
END:DAYLIGHT
BEGIN:STANDARD
DTSTART:20251026T020000
TZOFFSETFROM:+0200
TZOFFSETTO:+0100
TZNAME:CET
END:STANDARD
END:VTIMEZONE
BEGIN:VEVENT
SUMMARY:Poklona vo večnosti
DTSTART:20240706T110000
DTEND:20240706T114500
METHOD:PUBLISH
UID:36eb41c521b9a8aad8658d299426931f@festivalvychodna.sk
DTSTAMP:20260419T125255
SEQUENCE:0
STATUS:CONFIRMED
LOCATION:Obec Východná\, Cintorín vo Východnej
GEO:49.057436;19.891428
DESCRIPTION:Spomienka na zosnulých folkloristov.\n\nhttps://festivalvychod
 na.sk/2024/program/poklona-vo-vecnosti/
URL:https://festivalvychodna.sk/2024/program/poklona-vo-vecnosti/
ORGANIZER:Národné osvetové centrum
END:VEVENT
END:VCALENDAR
