BEGIN:VCALENDAR
VERSION:2.0
PRODID:-//ZContent.net//ZapCalLib 1.0//EN
CALSCALE:GREGORIAN
METHOD:PUBLISH
BEGIN:VTIMEZONE
TZID:Europe/Bratislava
BEGIN:DAYLIGHT
DTSTART:20230326T030000
TZOFFSETFROM:+0100
TZOFFSETTO:+0200
TZNAME:CEST
END:DAYLIGHT
BEGIN:STANDARD
DTSTART:20231029T020000
TZOFFSETFROM:+0200
TZOFFSETTO:+0100
TZNAME:CET
END:STANDARD
BEGIN:DAYLIGHT
DTSTART:20240331T030000
TZOFFSETFROM:+0100
TZOFFSETTO:+0200
TZNAME:CEST
END:DAYLIGHT
BEGIN:STANDARD
DTSTART:20241027T020000
TZOFFSETFROM:+0200
TZOFFSETTO:+0100
TZNAME:CET
END:STANDARD
BEGIN:DAYLIGHT
DTSTART:20250330T030000
TZOFFSETFROM:+0100
TZOFFSETTO:+0200
TZNAME:CEST
END:DAYLIGHT
BEGIN:STANDARD
DTSTART:20251026T020000
TZOFFSETFROM:+0200
TZOFFSETTO:+0100
TZNAME:CET
END:STANDARD
END:VTIMEZONE
BEGIN:VEVENT
SUMMARY:Pri muzike
DTSTART:20240706T230000
DTEND:20240707T030000
METHOD:PUBLISH
UID:53773c34a4be7e576a87e947eb4c0fcc@festivalvychodna.sk
DTSTAMP:20260419T124922
SEQUENCE:0
STATUS:CONFIRMED
LOCATION:Amfiteáter Východná\, Tancovisko
GEO:49.059326;19.900733
DESCRIPTION:https://festivalvychodna.sk/2024/program/pri-muzike-v-sobotu/
URL:https://festivalvychodna.sk/2024/program/pri-muzike-v-sobotu/
ORGANIZER:Národné osvetové centrum
END:VEVENT
END:VCALENDAR
