BEGIN:VCALENDAR
VERSION:2.0
PRODID:-//ZContent.net//ZapCalLib 1.0//EN
CALSCALE:GREGORIAN
METHOD:PUBLISH
BEGIN:VTIMEZONE
TZID:Europe/Bratislava
BEGIN:DAYLIGHT
DTSTART:20230326T030000
TZOFFSETFROM:+0100
TZOFFSETTO:+0200
TZNAME:CEST
END:DAYLIGHT
BEGIN:STANDARD
DTSTART:20231029T020000
TZOFFSETFROM:+0200
TZOFFSETTO:+0100
TZNAME:CET
END:STANDARD
BEGIN:DAYLIGHT
DTSTART:20240331T030000
TZOFFSETFROM:+0100
TZOFFSETTO:+0200
TZNAME:CEST
END:DAYLIGHT
BEGIN:STANDARD
DTSTART:20241027T020000
TZOFFSETFROM:+0200
TZOFFSETTO:+0100
TZNAME:CET
END:STANDARD
BEGIN:DAYLIGHT
DTSTART:20250330T030000
TZOFFSETFROM:+0100
TZOFFSETTO:+0200
TZNAME:CEST
END:DAYLIGHT
BEGIN:STANDARD
DTSTART:20251026T020000
TZOFFSETFROM:+0200
TZOFFSETTO:+0100
TZNAME:CET
END:STANDARD
END:VTIMEZONE
BEGIN:VEVENT
SUMMARY:RozmanitÃ©
DTSTART:20240707T121500
DTEND:20240707T133000
METHOD:PUBLISH
UID:63def95632a829cd859f1580aab41630@festivalvychodna.sk
DTSTAMP:20260419T124629
SEQUENCE:0
STATUS:CONFIRMED
LOCATION:AmfiteÃ¡ter VÃ½chodnÃ¡\, MalÃ¡ scÃ©na
GEO:49.060729;19.900155
DESCRIPTION:Program detskÃ½ch folklÃ³rnych sÃºborov a&nbsp\;sÃ³listov zo sÃ
 ºÅ¥aÅ¾e Å affova ostroha 2024.\n\nhttps://festivalvychodna.sk/2024/program
 /rozmanite/
URL:https://festivalvychodna.sk/2024/program/rozmanite/
ORGANIZER:NÃ¡rodnÃ© osvetovÃ© centrum
END:VEVENT
END:VCALENDAR
