BEGIN:VCALENDAR
VERSION:2.0
PRODID:-//ZContent.net//ZapCalLib 1.0//EN
CALSCALE:GREGORIAN
METHOD:PUBLISH
BEGIN:VTIMEZONE
TZID:Europe/Bratislava
BEGIN:DAYLIGHT
DTSTART:20230326T030000
TZOFFSETFROM:+0100
TZOFFSETTO:+0200
TZNAME:CEST
END:DAYLIGHT
BEGIN:STANDARD
DTSTART:20231029T020000
TZOFFSETFROM:+0200
TZOFFSETTO:+0100
TZNAME:CET
END:STANDARD
BEGIN:DAYLIGHT
DTSTART:20240331T030000
TZOFFSETFROM:+0100
TZOFFSETTO:+0200
TZNAME:CEST
END:DAYLIGHT
BEGIN:STANDARD
DTSTART:20241027T020000
TZOFFSETFROM:+0200
TZOFFSETTO:+0100
TZNAME:CET
END:STANDARD
BEGIN:DAYLIGHT
DTSTART:20250330T030000
TZOFFSETFROM:+0100
TZOFFSETTO:+0200
TZNAME:CEST
END:DAYLIGHT
BEGIN:STANDARD
DTSTART:20251026T020000
TZOFFSETFROM:+0200
TZOFFSETTO:+0100
TZNAME:CET
END:STANDARD
END:VTIMEZONE
BEGIN:VEVENT
SUMMARY:Škola tanca z Horehronia a Podpoľania
DTSTART:20240706T140000
DTEND:20240706T144500
METHOD:PUBLISH
UID:63453f907281f5163c6ff5d3ac908de5@festivalvychodna.sk
DTSTAMP:20260419T125709
SEQUENCE:0
STATUS:CONFIRMED
LOCATION:Amfiteáter Východná\, Tancovisko
GEO:49.059326;19.900733
DESCRIPTION:Ženské kolesové tance (Horehronie).Palicový z&nbsp\;Podzám
 čoku (Podpoľanie).\n\nhttps://festivalvychodna.sk/2024/program/skola-tan
 ca-z-horehronia-a-podpolania/
URL:https://festivalvychodna.sk/2024/program/skola-tanca-z-horehronia-a-pod
 polania/
ORGANIZER:Národné osvetové centrum
END:VEVENT
END:VCALENDAR
