BEGIN:VCALENDAR
VERSION:2.0
PRODID:-//ZContent.net//ZapCalLib 1.0//EN
CALSCALE:GREGORIAN
METHOD:PUBLISH
BEGIN:VTIMEZONE
TZID:Europe/Bratislava
BEGIN:DAYLIGHT
DTSTART:20230326T030000
TZOFFSETFROM:+0100
TZOFFSETTO:+0200
TZNAME:CEST
END:DAYLIGHT
BEGIN:STANDARD
DTSTART:20231029T020000
TZOFFSETFROM:+0200
TZOFFSETTO:+0100
TZNAME:CET
END:STANDARD
BEGIN:DAYLIGHT
DTSTART:20240331T030000
TZOFFSETFROM:+0100
TZOFFSETTO:+0200
TZNAME:CEST
END:DAYLIGHT
BEGIN:STANDARD
DTSTART:20241027T020000
TZOFFSETFROM:+0200
TZOFFSETTO:+0100
TZNAME:CET
END:STANDARD
BEGIN:DAYLIGHT
DTSTART:20250330T030000
TZOFFSETFROM:+0100
TZOFFSETTO:+0200
TZNAME:CEST
END:DAYLIGHT
BEGIN:STANDARD
DTSTART:20251026T020000
TZOFFSETFROM:+0200
TZOFFSETTO:+0100
TZNAME:CET
END:STANDARD
END:VTIMEZONE
BEGIN:VEVENT
SUMMARY:Škola tanca zo Zemplína a Šariša
DTSTART:20240707T100000
DTEND:20240707T104500
METHOD:PUBLISH
UID:be20236501bf074c524ee77833ea06fa@festivalvychodna.sk
DTSTAMP:20260419T125618
SEQUENCE:0
STATUS:CONFIRMED
LOCATION:Amfiteáter Východná\, Tancovisko
GEO:49.059326;19.900733
DESCRIPTION:Čardáš z&nbsp\;Parchovian (Zemplín).Do šaflíka z&nbsp\;Fi
 ntíc (Šariš).\n\nhttps://festivalvychodna.sk/2024/program/skola-tanca-z
 o-zemplina-a-sarisa/
URL:https://festivalvychodna.sk/2024/program/skola-tanca-zo-zemplina-a-sari
 sa/
ORGANIZER:Národné osvetové centrum
END:VEVENT
END:VCALENDAR
