BEGIN:VCALENDAR
VERSION:2.0
PRODID:-//ZContent.net//ZapCalLib 1.0//EN
CALSCALE:GREGORIAN
METHOD:PUBLISH
BEGIN:VTIMEZONE
TZID:Europe/Bratislava
BEGIN:DAYLIGHT
DTSTART:20230326T030000
TZOFFSETFROM:+0100
TZOFFSETTO:+0200
TZNAME:CEST
END:DAYLIGHT
BEGIN:STANDARD
DTSTART:20231029T020000
TZOFFSETFROM:+0200
TZOFFSETTO:+0100
TZNAME:CET
END:STANDARD
BEGIN:DAYLIGHT
DTSTART:20240331T030000
TZOFFSETFROM:+0100
TZOFFSETTO:+0200
TZNAME:CEST
END:DAYLIGHT
BEGIN:STANDARD
DTSTART:20241027T020000
TZOFFSETFROM:+0200
TZOFFSETTO:+0100
TZNAME:CET
END:STANDARD
BEGIN:DAYLIGHT
DTSTART:20250330T030000
TZOFFSETFROM:+0100
TZOFFSETTO:+0200
TZNAME:CEST
END:DAYLIGHT
BEGIN:STANDARD
DTSTART:20251026T020000
TZOFFSETFROM:+0200
TZOFFSETTO:+0100
TZNAME:CET
END:STANDARD
END:VTIMEZONE
BEGIN:VEVENT
SUMMARY:Slepá baba
DTSTART:20240706T160000
DTEND:20240706T163000
METHOD:PUBLISH
UID:18b5c5c5ce38360efc041d58881792a1@festivalvychodna.sk
DTSTAMP:20260419T124805
SEQUENCE:0
STATUS:CONFIRMED
LOCATION:Amfiteáter Východná\, Etnodom
GEO:49.060741;19.901167
DESCRIPTION:https://festivalvychodna.sk/2024/program/slepa-baba/
URL:https://festivalvychodna.sk/2024/program/slepa-baba/
ORGANIZER:Národné osvetové centrum
END:VEVENT
END:VCALENDAR
