BEGIN:VCALENDAR
VERSION:2.0
PRODID:-//ZContent.net//ZapCalLib 1.0//EN
CALSCALE:GREGORIAN
METHOD:PUBLISH
BEGIN:VTIMEZONE
TZID:Europe/Bratislava
BEGIN:DAYLIGHT
DTSTART:20230326T030000
TZOFFSETFROM:+0100
TZOFFSETTO:+0200
TZNAME:CEST
END:DAYLIGHT
BEGIN:STANDARD
DTSTART:20231029T020000
TZOFFSETFROM:+0200
TZOFFSETTO:+0100
TZNAME:CET
END:STANDARD
BEGIN:DAYLIGHT
DTSTART:20240331T030000
TZOFFSETFROM:+0100
TZOFFSETTO:+0200
TZNAME:CEST
END:DAYLIGHT
BEGIN:STANDARD
DTSTART:20241027T020000
TZOFFSETFROM:+0200
TZOFFSETTO:+0100
TZNAME:CET
END:STANDARD
BEGIN:DAYLIGHT
DTSTART:20250330T030000
TZOFFSETFROM:+0100
TZOFFSETTO:+0200
TZNAME:CEST
END:DAYLIGHT
BEGIN:STANDARD
DTSTART:20251026T020000
TZOFFSETFROM:+0200
TZOFFSETTO:+0100
TZNAME:CET
END:STANDARD
END:VTIMEZONE
BEGIN:VEVENT
SUMMARY:Spomienka na Alexandra Gernáta z Krivian
DTSTART:20240707T090000
DTEND:20240707T140000
METHOD:PUBLISH
UID:7332a878e0d2557792145d9fe2c8dd3b@festivalvychodna.sk
DTSTAMP:20260419T125403
SEQUENCE:0
STATUS:CONFIRMED
LOCATION:Amfiteáter Východná\, Etnodom
GEO:49.060741;19.901167
DESCRIPTION:Výstava\n\nhttps://festivalvychodna.sk/2024/program/spomienka-
 na-alexandra-gernata-3/
URL:https://festivalvychodna.sk/2024/program/spomienka-na-alexandra-gernata
 -3/
ORGANIZER:Národné osvetové centrum
END:VEVENT
END:VCALENDAR
