BEGIN:VCALENDAR
VERSION:2.0
PRODID:-//ZContent.net//ZapCalLib 1.0//EN
CALSCALE:GREGORIAN
METHOD:PUBLISH
BEGIN:VTIMEZONE
TZID:Europe/Bratislava
BEGIN:DAYLIGHT
DTSTART:20230326T030000
TZOFFSETFROM:+0100
TZOFFSETTO:+0200
TZNAME:CEST
END:DAYLIGHT
BEGIN:STANDARD
DTSTART:20231029T020000
TZOFFSETFROM:+0200
TZOFFSETTO:+0100
TZNAME:CET
END:STANDARD
BEGIN:DAYLIGHT
DTSTART:20240331T030000
TZOFFSETFROM:+0100
TZOFFSETTO:+0200
TZNAME:CEST
END:DAYLIGHT
BEGIN:STANDARD
DTSTART:20241027T020000
TZOFFSETFROM:+0200
TZOFFSETTO:+0100
TZNAME:CET
END:STANDARD
BEGIN:DAYLIGHT
DTSTART:20250330T030000
TZOFFSETFROM:+0100
TZOFFSETTO:+0200
TZNAME:CEST
END:DAYLIGHT
BEGIN:STANDARD
DTSTART:20251026T020000
TZOFFSETFROM:+0200
TZOFFSETTO:+0100
TZNAME:CET
END:STANDARD
END:VTIMEZONE
BEGIN:VEVENT
SUMMARY:Vidiečanova Habovka 2024
DTSTART:20240707T111500
DTEND:20240707T120000
METHOD:PUBLISH
UID:bef1c498f39b172c8b3d8053cfdbb2fc@festivalvychodna.sk
DTSTAMP:20260419T125409
SEQUENCE:0
STATUS:CONFIRMED
LOCATION:Amfiteáter Východná\, Malá scéna
GEO:49.060729;19.900155
DESCRIPTION:Program laureátov a&nbsp\;špeciálne ocenených súťažiacic
 h Vidiečanovej Habovky.\n\nhttps://festivalvychodna.sk/2024/program/vidie
 canova-habovka-2024/
URL:https://festivalvychodna.sk/2024/program/vidiecanova-habovka-2024/
ORGANIZER:Národné osvetové centrum
END:VEVENT
END:VCALENDAR
