BEGIN:VCALENDAR
VERSION:2.0
PRODID:-//ZContent.net//ZapCalLib 1.0//EN
CALSCALE:GREGORIAN
METHOD:PUBLISH
BEGIN:VTIMEZONE
TZID:Europe/Bratislava
BEGIN:DAYLIGHT
DTSTART:20230326T030000
TZOFFSETFROM:+0100
TZOFFSETTO:+0200
TZNAME:CEST
END:DAYLIGHT
BEGIN:STANDARD
DTSTART:20231029T020000
TZOFFSETFROM:+0200
TZOFFSETTO:+0100
TZNAME:CET
END:STANDARD
BEGIN:DAYLIGHT
DTSTART:20240331T030000
TZOFFSETFROM:+0100
TZOFFSETTO:+0200
TZNAME:CEST
END:DAYLIGHT
BEGIN:STANDARD
DTSTART:20241027T020000
TZOFFSETFROM:+0200
TZOFFSETTO:+0100
TZNAME:CET
END:STANDARD
BEGIN:DAYLIGHT
DTSTART:20250330T030000
TZOFFSETFROM:+0100
TZOFFSETTO:+0200
TZNAME:CEST
END:DAYLIGHT
BEGIN:STANDARD
DTSTART:20251026T020000
TZOFFSETFROM:+0200
TZOFFSETTO:+0100
TZNAME:CET
END:STANDARD
END:VTIMEZONE
BEGIN:VEVENT
SUMMARY:Z jenného mesta z jennakého cesta
DTSTART:20240706T151500
DTEND:20240706T160000
METHOD:PUBLISH
UID:02c38be9b21b0f0a8c25f16936ed58cc@festivalvychodna.sk
DTSTAMP:20260419T125407
SEQUENCE:0
STATUS:CONFIRMED
LOCATION:Amfiteáter Východná\, Malá scéna
GEO:49.060729;19.900155
DESCRIPTION:https://festivalvychodna.sk/2024/program/z-jenneho-mesta-z-jenn
 akeho-cesta/
URL:https://festivalvychodna.sk/2024/program/z-jenneho-mesta-z-jennakeho-ce
 sta/
ORGANIZER:Národné osvetové centrum
END:VEVENT
END:VCALENDAR
