BEGIN:VCALENDAR
VERSION:2.0
PRODID:-//ZContent.net//ZapCalLib 1.0//EN
CALSCALE:GREGORIAN
METHOD:PUBLISH
BEGIN:VTIMEZONE
TZID:Europe/Bratislava
BEGIN:DAYLIGHT
DTSTART:20230326T030000
TZOFFSETFROM:+0100
TZOFFSETTO:+0200
TZNAME:CEST
END:DAYLIGHT
BEGIN:STANDARD
DTSTART:20231029T020000
TZOFFSETFROM:+0200
TZOFFSETTO:+0100
TZNAME:CET
END:STANDARD
BEGIN:DAYLIGHT
DTSTART:20240331T030000
TZOFFSETFROM:+0100
TZOFFSETTO:+0200
TZNAME:CEST
END:DAYLIGHT
BEGIN:STANDARD
DTSTART:20241027T020000
TZOFFSETFROM:+0200
TZOFFSETTO:+0100
TZNAME:CET
END:STANDARD
BEGIN:DAYLIGHT
DTSTART:20250330T030000
TZOFFSETFROM:+0100
TZOFFSETTO:+0200
TZNAME:CEST
END:DAYLIGHT
BEGIN:STANDARD
DTSTART:20251026T020000
TZOFFSETFROM:+0200
TZOFFSETTO:+0100
TZNAME:CET
END:STANDARD
END:VTIMEZONE
BEGIN:VEVENT
SUMMARY:Živá kôra hudby
DTSTART:20240706T153000
DTEND:20240706T161500
METHOD:PUBLISH
UID:a31893551af3fb2eb3269a5a1a0244f4@festivalvychodna.sk
DTSTAMP:20260419T124936
SEQUENCE:0
STATUS:CONFIRMED
LOCATION:Amfiteáter Východná\, Humno
GEO:49.060279;19.900746
DESCRIPTION:Najstaršie folklórne nahrávky a&nbsp\;ich odraz v&nbsp\;sú
 asnosti.\n\nhttps://festivalvychodna.sk/2024/program/ziva-kora-hudby/
URL:https://festivalvychodna.sk/2024/program/ziva-kora-hudby/
ORGANIZER:Národné osvetové centrum
END:VEVENT
END:VCALENDAR
