BEGIN:VCALENDAR
VERSION:2.0
PRODID:-//ZContent.net//ZapCalLib 1.0//EN
CALSCALE:GREGORIAN
METHOD:PUBLISH
BEGIN:VTIMEZONE
TZID:Europe/Bratislava
BEGIN:DAYLIGHT
DTSTART:20230326T030000
TZOFFSETFROM:+0100
TZOFFSETTO:+0200
TZNAME:CEST
END:DAYLIGHT
BEGIN:STANDARD
DTSTART:20231029T020000
TZOFFSETFROM:+0200
TZOFFSETTO:+0100
TZNAME:CET
END:STANDARD
BEGIN:DAYLIGHT
DTSTART:20240331T030000
TZOFFSETFROM:+0100
TZOFFSETTO:+0200
TZNAME:CEST
END:DAYLIGHT
BEGIN:STANDARD
DTSTART:20241027T020000
TZOFFSETFROM:+0200
TZOFFSETTO:+0100
TZNAME:CET
END:STANDARD
BEGIN:DAYLIGHT
DTSTART:20250330T030000
TZOFFSETFROM:+0100
TZOFFSETTO:+0200
TZNAME:CEST
END:DAYLIGHT
BEGIN:STANDARD
DTSTART:20251026T020000
TZOFFSETFROM:+0200
TZOFFSETTO:+0100
TZNAME:CET
END:STANDARD
END:VTIMEZONE
BEGIN:VEVENT
SUMMARY:Zlatá Šaffova ostroha
DTSTART:20240706T190000
DTEND:20240706T194500
METHOD:PUBLISH
UID:b9a5583a9feae03451321e498708b0e7@festivalvychodna.sk
DTSTAMP:20260419T125127
SEQUENCE:0
STATUS:CONFIRMED
LOCATION:Amfiteáter Východná\, Veľká scéna – amfiteáter
GEO:49.061413;19.900557
DESCRIPTION:Vystúpenie osobností s&nbsp\;najvyšším počtom titulov lau
 reáta Šaffovej ostrohy od roku 1993 po súčasnosť a&nbsp\;tanečníkov
  zaradených v&nbsp\;roku 2024 do zlatého pásma.\n\nhttps://festivalvych
 odna.sk/2024/program/zlata-saffova-ostroha/
URL:https://festivalvychodna.sk/2024/program/zlata-saffova-ostroha/
ORGANIZER:Národné osvetové centrum
END:VEVENT
END:VCALENDAR
